BEGIN:VCALENDAR
VERSION:2.0
PRODID:-//Ballroom Dance Preservation Society - ECPv6.15.10//NONSGML v1.0//EN
CALSCALE:GREGORIAN
METHOD:PUBLISH
X-WR-CALNAME:Ballroom Dance Preservation Society
X-ORIGINAL-URL:https://ballroomdancepreservation.com
X-WR-CALDESC:Events for Ballroom Dance Preservation Society
REFRESH-INTERVAL;VALUE=DURATION:PT1H
X-Robots-Tag:noindex
X-PUBLISHED-TTL:PT1H
BEGIN:VTIMEZONE
TZID:America/New_York
BEGIN:DAYLIGHT
TZOFFSETFROM:-0500
TZOFFSETTO:-0400
TZNAME:EDT
DTSTART:20180311T070000
END:DAYLIGHT
BEGIN:STANDARD
TZOFFSETFROM:-0400
TZOFFSETTO:-0500
TZNAME:EST
DTSTART:20181104T060000
END:STANDARD
BEGIN:DAYLIGHT
TZOFFSETFROM:-0500
TZOFFSETTO:-0400
TZNAME:EDT
DTSTART:20190310T070000
END:DAYLIGHT
BEGIN:STANDARD
TZOFFSETFROM:-0400
TZOFFSETTO:-0500
TZNAME:EST
DTSTART:20191103T060000
END:STANDARD
BEGIN:DAYLIGHT
TZOFFSETFROM:-0500
TZOFFSETTO:-0400
TZNAME:EDT
DTSTART:20200308T070000
END:DAYLIGHT
BEGIN:STANDARD
TZOFFSETFROM:-0400
TZOFFSETTO:-0500
TZNAME:EST
DTSTART:20201101T060000
END:STANDARD
END:VTIMEZONE
BEGIN:VEVENT
DTSTART;TZID=America/New_York:20190905T173000
DTEND;TZID=America/New_York:20190905T203000
DTSTAMP:20260419T084858
CREATED:20190706T004044Z
LAST-MODIFIED:20190903T220759Z
UID:3415-1567704600-1567715400@ballroomdancepreservation.com
SUMMARY:First Thursday at St. John's Hall-postponed to Sept 12
DESCRIPTION:Due to Hurricane Dorian\, this dance has been postponed to September 12th \nLesson 5:30 to 6:00\,  general dancing 6 pm to 8:30 pm \nA fun night of social and balloom dancing \nPlease bring a dish to share on the community table.  Drinks are provided. \n 
URL:https://ballroomdancepreservation.com/event/first-thursday-at-st-johns-hall/
LOCATION:St. John’s Hall\, 3301 33rd Ave Ex\, Myrtle Beach\, SC\, 29577\, United States
CATEGORIES:Ballroom Dance Event
ATTACH;FMTTYPE=image/jpeg:https://ballroomdancepreservation.com/wp-content/uploads/2019/05/1st-Thursday-530.jpg
END:VEVENT
BEGIN:VEVENT
DTSTART;TZID=America/New_York:20190907T103000
DTEND;TZID=America/New_York:20190907T113000
DTSTAMP:20260419T084858
CREATED:20190903T221736Z
LAST-MODIFIED:20190903T233336Z
UID:3635-1567852200-1567855800@ballroomdancepreservation.com
SUMMARY:Youth Group Lesson
DESCRIPTION:6 week session starting Sept 9 for ages approx. 10 to 17 \nSalsa\, Cha-Cha\, Shag \nInstructors: Juan and Jada Gonzalez \n$60 for six weeks or walk in $12
URL:https://ballroomdancepreservation.com/event/youth-group-lesson/
LOCATION:J. Bryan Floyd Community Center\, 1030 Possum Trot Road\, North Myrtle Beach\, SC\, 29582\, United States
CATEGORIES:Ballroom Dance Training
END:VEVENT
BEGIN:VEVENT
DTSTART;TZID=America/New_York:20190909T130000
DTEND;TZID=America/New_York:20190909T140000
DTSTAMP:20260419T084858
CREATED:20190903T221353Z
LAST-MODIFIED:20190903T221353Z
UID:3634-1568034000-1568037600@ballroomdancepreservation.com
SUMMARY:Ballroom Dance Lesson
DESCRIPTION:Group lesson with Sal Teta
URL:https://ballroomdancepreservation.com/event/ballroom-dance-lesson-6/
LOCATION:Brunswick Senior Resource Center\, 10050 Beach Drive\, Calabash\, NC\, United States
CATEGORIES:FREE Dance Lesson
END:VEVENT
BEGIN:VEVENT
DTSTART;TZID=America/New_York:20190911T173000
DTEND;TZID=America/New_York:20190911T203000
DTSTAMP:20260419T084858
CREATED:20190727T203957Z
LAST-MODIFIED:20190727T203957Z
UID:3520-1568223000-1568233800@ballroomdancepreservation.com
SUMMARY:Dancing at Vine Bistro
DESCRIPTION:Fun time dancing to Larry Tannelli and Claudette
URL:https://ballroomdancepreservation.com/event/dancing-at-vine-bistro-2/
LOCATION:Vine Bistro Myrtle Beach Restaurant Row
CATEGORIES:Ballroom Dance Event,Dinner Dance,Vine Bistro Restaurant Row Myrtle Beach
END:VEVENT
BEGIN:VEVENT
DTSTART;TZID=America/New_York:20190912T173000
DTEND;TZID=America/New_York:20190912T203000
DTSTAMP:20260419T084858
CREATED:20190903T220956Z
LAST-MODIFIED:20190904T003031Z
UID:3631-1568309400-1568320200@ballroomdancepreservation.com
SUMMARY:First Thursday Dance with the Starduster Big Band
DESCRIPTION:Dancing for Everyone (no problem if you don’t dance – just come to listen!) \n5:30 to 6  Salsa lesson with Ines Guarina \n6 to 8:30 Dancing to the Starduster BIg Band \nPlease bring a dish to share \n$10  BDPS members\,  $12 non-members
URL:https://ballroomdancepreservation.com/event/first-thursday-dance-with-the-starduster-big-band/
LOCATION:St. John’s Hall\, 3301 33rd Ave Ex\, Myrtle Beach\, SC\, 29577\, United States
CATEGORIES:Ballroom Dance Event,Bring Food,FREE Dance Lesson,Social dancing
END:VEVENT
BEGIN:VEVENT
DTSTART;TZID=America/New_York:20190914T103000
DTEND;TZID=America/New_York:20190914T113000
DTSTAMP:20260419T084858
CREATED:20190904T001612Z
LAST-MODIFIED:20190904T001612Z
UID:3647-1568457000-1568460600@ballroomdancepreservation.com
SUMMARY:Youth Dance Lab
DESCRIPTION:Six week session \nYouths ages approx. 10 to 17 \nLearn Salsa\, Cha-Cha & Shag \n$60 for 6 weeks for $12 walk in \nInstructors: Juan and Jada Gonzalez
URL:https://ballroomdancepreservation.com/event/youth-dance-lab/
LOCATION:J. Bryan Floyd Community Center\, 1030 Possum Trot Road\, North Myrtle Beach\, SC\, 29582\, United States
CATEGORIES:Ballroom Dance Training
END:VEVENT
BEGIN:VEVENT
DTSTART;TZID=America/New_York:20190916T130000
DTEND;TZID=America/New_York:20190916T140000
DTSTAMP:20260419T084858
CREATED:20190904T000240Z
LAST-MODIFIED:20190904T003109Z
UID:3638-1568638800-1568642400@ballroomdancepreservation.com
SUMMARY:Ballroom Dance Lesson
DESCRIPTION:Ballroom Lesson with Sal Teta
URL:https://ballroomdancepreservation.com/event/ballroom-dance-lesson-7/
LOCATION:Brunswick Senior Resource Center\, 10050 Beach Drive\, Calabash\, NC\, United States
CATEGORIES:FREE Dance Lesson
END:VEVENT
BEGIN:VEVENT
DTSTART;TZID=America/New_York:20190921T103000
DTEND;TZID=America/New_York:20190921T113000
DTSTAMP:20260419T084858
CREATED:20190904T001745Z
LAST-MODIFIED:20190904T002613Z
UID:3648-1569061800-1569065400@ballroomdancepreservation.com
SUMMARY:Youth Dance Lab
DESCRIPTION:Six week session\nYouths ages approx. 10 to 17\nLearn Salsa\, Cha-Cha & Shag\n$60 for 6 weeks for $12 walk in\nInstructors: Juan and Jada Gonzalez
URL:https://ballroomdancepreservation.com/event/outh-dance-lab/
LOCATION:J. Bryan Floyd Community Center\, 1030 Possum Trot Road\, North Myrtle Beach\, SC\, 29582\, United States
CATEGORIES:Ballroom Dance Training
END:VEVENT
BEGIN:VEVENT
DTSTART;TZID=America/New_York:20190921T183000
DTEND;TZID=America/New_York:20190921T213000
DTSTAMP:20260419T084858
CREATED:20190727T204646Z
LAST-MODIFIED:20190903T235722Z
UID:3521-1569090600-1569101400@ballroomdancepreservation.com
SUMMARY:Caribbean Night
DESCRIPTION:DJ for the evening will be Ralph Hunn\, he will teach a Merengue lesson from 6:30 to 7 \nthen general dancing will be from 7 to 9:30 \nAll the ballroom dance styles will be played but there will be a few more Latin dances than usual \nSee a few performances by your BDPS member friends \nCaribbean food \, dress casual in your island clothes \nBDPS members $10\, non members $12
URL:https://ballroomdancepreservation.com/event/caribbean-night/
LOCATION:General Robert H. Reed Recreation Center\, 800 Gabreski Lane\, Myrtle Beach\, SC\, 29577
CATEGORIES:Ballroom Dance Event,Social dancing
END:VEVENT
BEGIN:VEVENT
DTSTART;TZID=America/New_York:20190922T080000
DTEND;TZID=America/New_York:20190922T170000
DTSTAMP:20260419T084858
CREATED:20190923T010658Z
LAST-MODIFIED:20190923T010658Z
UID:3726-1569139200-1569171600@ballroomdancepreservation.com
SUMMARY:First Thursday Dance
DESCRIPTION:5:30 to 6 pm lesson \nGeneral dancing 6 pm to 8:30 \nPlease bring a dish to share
URL:https://ballroomdancepreservation.com/event/first-thursday-dance-6/
LOCATION:St. John’s Hall\, 3301 33rd Ave Ex\, Myrtle Beach\, SC\, 29577\, United States
CATEGORIES:Ballroom Dance Event,Bring Food,FREE Dance Lesson
ATTACH;FMTTYPE=image/jpeg:https://ballroomdancepreservation.com/wp-content/uploads/2019/09/1st-Thursday-530.jpg
END:VEVENT
BEGIN:VEVENT
DTSTART;TZID=America/New_York:20190923T130000
DTEND;TZID=America/New_York:20190923T140000
DTSTAMP:20260419T084858
CREATED:20190904T000354Z
LAST-MODIFIED:20190904T000354Z
UID:3639-1569243600-1569247200@ballroomdancepreservation.com
SUMMARY:Ballroom Dance Lesson
DESCRIPTION:Ballroom Lesson with Sal Teta
URL:https://ballroomdancepreservation.com/event/ballroom-dance-lesson-8/
LOCATION:Brunswick Senior Resource Center\, 10050 Beach Drive\, Calabash\, NC\, United States
CATEGORIES:Ballroom Dance Training,FREE Dance Lesson
END:VEVENT
BEGIN:VEVENT
DTSTART;TZID=America/New_York:20190923T183000
DTEND;TZID=America/New_York:20190923T210000
DTSTAMP:20260419T084858
CREATED:20190923T011124Z
LAST-MODIFIED:20190923T011124Z
UID:3728-1569263400-1569272400@ballroomdancepreservation.com
SUMMARY:Big Band Dance Night
DESCRIPTION:Dancing to the Starduster Big Band \n6:30 to 7 pm lesson \n7pm to 9 pm general dancing \nBYOB and snacks to share
URL:https://ballroomdancepreservation.com/event/big-band-dance-night/
LOCATION:General Robert H. Reed Recreation Center\, 800 Gabreski Lane\, Myrtle Beach\, SC\, 29577
CATEGORIES:Ballroom Dance Event,Bring Food
END:VEVENT
BEGIN:VEVENT
DTSTART;TZID=America/New_York:20190928T103000
DTEND;TZID=America/New_York:20190928T113000
DTSTAMP:20260419T084858
CREATED:20190904T001907Z
LAST-MODIFIED:20190904T001907Z
UID:3649-1569666600-1569670200@ballroomdancepreservation.com
SUMMARY:Youth Dance Lab
DESCRIPTION:Six week session\nYouths ages approx. 10 to 17\nLearn Salsa\, Cha-Cha & Shag\n$60 for 6 weeks for $12 walk in\nInstructors: Juan and Jada Gonzalez
URL:https://ballroomdancepreservation.com/event/youth-dance-lab-2/
LOCATION:J. Bryan Floyd Community Center\, 1030 Possum Trot Road\, North Myrtle Beach\, SC\, 29582\, United States
CATEGORIES:Ballroom Dance Training
END:VEVENT
BEGIN:VEVENT
DTSTART;TZID=America/New_York:20190930T130000
DTEND;TZID=America/New_York:20190930T140000
DTSTAMP:20260419T084858
CREATED:20190904T000525Z
LAST-MODIFIED:20190904T000525Z
UID:3640-1569848400-1569852000@ballroomdancepreservation.com
SUMMARY:Ballroom Dance Lesson
DESCRIPTION:Ballroom lesson with Sal Teta
URL:https://ballroomdancepreservation.com/event/ballroom-dance-lesson-9/
LOCATION:Brunswick Senior Resource Center\, 10050 Beach Drive\, Calabash\, NC\, United States
CATEGORIES:FREE Dance Lesson
END:VEVENT
END:VCALENDAR