BEGIN:VCALENDAR
VERSION:2.0
PRODID:-//Ballroom Dance Preservation Society - ECPv6.15.10//NONSGML v1.0//EN
CALSCALE:GREGORIAN
METHOD:PUBLISH
X-WR-CALNAME:Ballroom Dance Preservation Society
X-ORIGINAL-URL:https://ballroomdancepreservation.com
X-WR-CALDESC:Events for Ballroom Dance Preservation Society
REFRESH-INTERVAL;VALUE=DURATION:PT1H
X-Robots-Tag:noindex
X-PUBLISHED-TTL:PT1H
BEGIN:VTIMEZONE
TZID:America/New_York
BEGIN:DAYLIGHT
TZOFFSETFROM:-0500
TZOFFSETTO:-0400
TZNAME:EDT
DTSTART:20180311T070000
END:DAYLIGHT
BEGIN:STANDARD
TZOFFSETFROM:-0400
TZOFFSETTO:-0500
TZNAME:EST
DTSTART:20181104T060000
END:STANDARD
BEGIN:DAYLIGHT
TZOFFSETFROM:-0500
TZOFFSETTO:-0400
TZNAME:EDT
DTSTART:20190310T070000
END:DAYLIGHT
BEGIN:STANDARD
TZOFFSETFROM:-0400
TZOFFSETTO:-0500
TZNAME:EST
DTSTART:20191103T060000
END:STANDARD
BEGIN:DAYLIGHT
TZOFFSETFROM:-0500
TZOFFSETTO:-0400
TZNAME:EDT
DTSTART:20200308T070000
END:DAYLIGHT
BEGIN:STANDARD
TZOFFSETFROM:-0400
TZOFFSETTO:-0500
TZNAME:EST
DTSTART:20201101T060000
END:STANDARD
END:VTIMEZONE
BEGIN:VEVENT
DTSTART;TZID=America/New_York:20190705T080000
DTEND;TZID=America/New_York:20190705T170000
DTSTAMP:20260419T125002
CREATED:20190706T004630Z
LAST-MODIFIED:20190706T004630Z
UID:3416-1562313600-1562346000@ballroomdancepreservation.com
SUMMARY:Caribbean Dance Party
DESCRIPTION:A night of Latin dancing and other social and ballroom dancing\, \nLesson 6:30 to 7\, general dancing 7 pm to 9:30 pm \nCaribbean themed foods and decor \n  \n  \n 
URL:https://ballroomdancepreservation.com/event/caribbean-dance-party/
LOCATION:General Robert H. Reed Recreation Center\, 800 Gabreski Lane\, Myrtle Beach\, SC\, 29577
CATEGORIES:Ballroom Dance Event,Social dancing
END:VEVENT
BEGIN:VEVENT
DTSTART;TZID=America/New_York:20190711T173000
DTEND;TZID=America/New_York:20190711T203000
DTSTAMP:20260419T125002
CREATED:20190505T142759Z
LAST-MODIFIED:20190701T004224Z
UID:3241-1562866200-1562877000@ballroomdancepreservation.com
SUMMARY:Dancing at St. John's Hall
DESCRIPTION:DJ Music \nBring a dish to share on community table \nMerengue lesson from 5:30 to 8:30 \nThis dance is FREE for BDPS and $10 for non-members
URL:https://ballroomdancepreservation.com/event/dancing-at-st-johns-hall-2/
LOCATION:St. John’s Hall\, 3301 33rd Ave Ex\, Myrtle Beach\, SC\, 29577\, United States
CATEGORIES:Ballroom Dance Event
ATTACH;FMTTYPE=image/jpeg:https://ballroomdancepreservation.com/wp-content/uploads/2019/05/1st-Thursday-530.jpg
END:VEVENT
BEGIN:VEVENT
DTSTART;TZID=America/New_York:20190717T173000
DTEND;TZID=America/New_York:20190717T203000
DTSTAMP:20260419T125002
CREATED:20190701T004438Z
LAST-MODIFIED:20190701T004438Z
UID:3389-1563384600-1563395400@ballroomdancepreservation.com
SUMMARY:Dancing at the Vine Bistro
DESCRIPTION:Join BDPS members and friends for dancing at the Vine Bistro to music by Larry Tannelli and Claudette
URL:https://ballroomdancepreservation.com/event/dancing-at-the-vine-bistro-2/
LOCATION:Vine Bistro Myrtle Beach Restaurant Row
CATEGORIES:Ballroom Dance Event,Dinner Dance,Dutch Treat
END:VEVENT
BEGIN:VEVENT
DTSTART;TZID=America/New_York:20190721T180000
DTEND;TZID=America/New_York:20190721T220000
DTSTAMP:20260419T125002
CREATED:20190505T144352Z
LAST-MODIFIED:20190705T233812Z
UID:3245-1563732000-1563746400@ballroomdancepreservation.com
SUMMARY:Copa Night at Pelican Stadium
DESCRIPTION:Click to buy Pelican Copa Night tickets\n 
URL:https://ballroomdancepreservation.com/event/copa-night-at-pelican-stadium/
LOCATION:Pelican Stadium\, 1251 21st Ave North\, Myrtle Beach\, SC\, 29577\, United States
CATEGORIES:Ballroom Dance Event
END:VEVENT
END:VCALENDAR