BEGIN:VCALENDAR
VERSION:2.0
PRODID:-//Ballroom Dance Preservation Society - ECPv6.15.10//NONSGML v1.0//EN
CALSCALE:GREGORIAN
METHOD:PUBLISH
X-WR-CALNAME:Ballroom Dance Preservation Society
X-ORIGINAL-URL:https://ballroomdancepreservation.com
X-WR-CALDESC:Events for Ballroom Dance Preservation Society
REFRESH-INTERVAL;VALUE=DURATION:PT1H
X-Robots-Tag:noindex
X-PUBLISHED-TTL:PT1H
BEGIN:VTIMEZONE
TZID:America/New_York
BEGIN:DAYLIGHT
TZOFFSETFROM:-0500
TZOFFSETTO:-0400
TZNAME:EDT
DTSTART:20180311T070000
END:DAYLIGHT
BEGIN:STANDARD
TZOFFSETFROM:-0400
TZOFFSETTO:-0500
TZNAME:EST
DTSTART:20181104T060000
END:STANDARD
BEGIN:DAYLIGHT
TZOFFSETFROM:-0500
TZOFFSETTO:-0400
TZNAME:EDT
DTSTART:20190310T070000
END:DAYLIGHT
BEGIN:STANDARD
TZOFFSETFROM:-0400
TZOFFSETTO:-0500
TZNAME:EST
DTSTART:20191103T060000
END:STANDARD
BEGIN:DAYLIGHT
TZOFFSETFROM:-0500
TZOFFSETTO:-0400
TZNAME:EDT
DTSTART:20200308T070000
END:DAYLIGHT
BEGIN:STANDARD
TZOFFSETFROM:-0400
TZOFFSETTO:-0500
TZNAME:EST
DTSTART:20201101T060000
END:STANDARD
END:VTIMEZONE
BEGIN:VEVENT
DTSTART;TZID=America/New_York:20190506T130000
DTEND;TZID=America/New_York:20190506T140000
DTSTAMP:20260419T141641
CREATED:20190505T141726Z
LAST-MODIFIED:20190505T141726Z
UID:3236-1557147600-1557151200@ballroomdancepreservation.com
SUMMARY:Ballroom Lesson
DESCRIPTION:Foxtrot
URL:https://ballroomdancepreservation.com/event/ballroom-lesson-17/
LOCATION:Brunswick Senior Resource Center\, 10050 Beach Drive\, Calabash\, NC\, United States
CATEGORIES:FREE Dance Lesson
END:VEVENT
BEGIN:VEVENT
DTSTART;TZID=America/New_York:20190513T130000
DTEND;TZID=America/New_York:20190513T140000
DTSTAMP:20260419T141641
CREATED:20190505T141855Z
LAST-MODIFIED:20190505T141855Z
UID:3237-1557752400-1557756000@ballroomdancepreservation.com
SUMMARY:Ballroom Lesson
DESCRIPTION:Foxtrot
URL:https://ballroomdancepreservation.com/event/ballroom-lesson-18/
LOCATION:Brunswick Senior Resource Center\, 10050 Beach Drive\, Calabash\, NC\, United States
CATEGORIES:FREE Dance Lesson
END:VEVENT
BEGIN:VEVENT
DTSTART;TZID=America/New_York:20190515T173000
DTEND;TZID=America/New_York:20190515T203000
DTSTAMP:20260419T141641
CREATED:20190309T102404Z
LAST-MODIFIED:20190317T195131Z
UID:3130-1557941400-1557952200@ballroomdancepreservation.com
SUMMARY:Dancing at the Vine Bistro
DESCRIPTION:Join members and friends for dancing at the Vine Bistro
URL:https://ballroomdancepreservation.com/event/dancing-at-the-vine-bistro/
LOCATION:Vine Bistro Myrtle Beach Restaurant Row
CATEGORIES:Ballroom Dance Event,Dinner Dance,Dutch Treat
END:VEVENT
BEGIN:VEVENT
DTSTART;TZID=America/New_York:20190519T170000
DTEND;TZID=America/New_York:20190519T210000
DTSTAMP:20260419T141641
CREATED:20190309T104205Z
LAST-MODIFIED:20190309T184426Z
UID:3136-1558285200-1558299600@ballroomdancepreservation.com
SUMMARY:Senior Prom
DESCRIPTION:Click here to pay for Senior Prom\n \nMust register and pay in advance. \nPlease state your meal preference: \nPan Roasted Chicken\, Shrimp Risotto & Haricot Verts \nAtlantic Salmon\, Sweet Corn Risotto\, Haricot Verts \nBoth serviced with House Salad with Balsamic Vinaigrette\, Rolls\, Orange Cinnamon Bread Pudding\, coffee\, Iced Tea \nPassed Hors d’ouevre during Cocktail Hour and Cash Bar all night \n  \n  \n  \n  \n  \n 
URL:https://ballroomdancepreservation.com/event/senior-prom/
LOCATION:Doubletree Hilton Resort\, 3200 South Ocean Blvd.\, Myrtle Beach\, SC\, 29582\, United States
CATEGORIES:Ballroom Dance Event
END:VEVENT
BEGIN:VEVENT
DTSTART;TZID=America/New_York:20190520T130000
DTEND;TZID=America/New_York:20190520T140000
DTSTAMP:20260419T141641
CREATED:20190505T142020Z
LAST-MODIFIED:20190505T142020Z
UID:3238-1558357200-1558360800@ballroomdancepreservation.com
SUMMARY:Ballroom Lesson
DESCRIPTION:Foxtrot
URL:https://ballroomdancepreservation.com/event/ballroom-lesson-19/
LOCATION:Brunswick Senior Resource Center\, 10050 Beach Drive\, Calabash\, NC\, United States
CATEGORIES:FREE Dance Lesson
END:VEVENT
END:VCALENDAR