BEGIN:VCALENDAR
VERSION:2.0
PRODID:-//Ballroom Dance Preservation Society - ECPv6.15.10//NONSGML v1.0//EN
CALSCALE:GREGORIAN
METHOD:PUBLISH
X-ORIGINAL-URL:https://ballroomdancepreservation.com
X-WR-CALDESC:Events for Ballroom Dance Preservation Society
REFRESH-INTERVAL;VALUE=DURATION:PT1H
X-Robots-Tag:noindex
X-PUBLISHED-TTL:PT1H
BEGIN:VTIMEZONE
TZID:America/New_York
BEGIN:DAYLIGHT
TZOFFSETFROM:-0500
TZOFFSETTO:-0400
TZNAME:EDT
DTSTART:20180311T070000
END:DAYLIGHT
BEGIN:STANDARD
TZOFFSETFROM:-0400
TZOFFSETTO:-0500
TZNAME:EST
DTSTART:20181104T060000
END:STANDARD
BEGIN:DAYLIGHT
TZOFFSETFROM:-0500
TZOFFSETTO:-0400
TZNAME:EDT
DTSTART:20190310T070000
END:DAYLIGHT
BEGIN:STANDARD
TZOFFSETFROM:-0400
TZOFFSETTO:-0500
TZNAME:EST
DTSTART:20191103T060000
END:STANDARD
BEGIN:DAYLIGHT
TZOFFSETFROM:-0500
TZOFFSETTO:-0400
TZNAME:EDT
DTSTART:20200308T070000
END:DAYLIGHT
BEGIN:STANDARD
TZOFFSETFROM:-0400
TZOFFSETTO:-0500
TZNAME:EST
DTSTART:20201101T060000
END:STANDARD
END:VTIMEZONE
BEGIN:VEVENT
DTSTART;TZID=America/New_York:20190309T100000
DTEND;TZID=America/New_York:20190309T100000
DTSTAMP:20260419T185924
CREATED:20181220T010020Z
LAST-MODIFIED:20181220T010020Z
UID:2962-1552125600-1552125600@ballroomdancepreservation.com
SUMMARY:Jump 'n' Java
DESCRIPTION:Dancing in the morning at 810 Lanes
URL:https://ballroomdancepreservation.com/event/jump-n-java-10/
LOCATION:810 Lanes\, 1220 Moser Dr\, Myrtle Beach\, SC\, 29577\, United States
CATEGORIES:Ballroom Dance Event,FREE Dance Lesson
END:VEVENT
BEGIN:VEVENT
DTSTART;TZID=America/New_York:20190311T130000
DTEND;TZID=America/New_York:20190311T140000
DTSTAMP:20260419T185924
CREATED:20190309T102738Z
LAST-MODIFIED:20190309T102738Z
UID:3131-1552309200-1552312800@ballroomdancepreservation.com
SUMMARY:Lessons in Calabash
DESCRIPTION:Beginner Ballroom Lesson (East Coast Swing) taught by Sal Teta
URL:https://ballroomdancepreservation.com/event/lessons-in-calabash/
LOCATION:Brunswick Senior Resource Center\, 10050 Beach Drive\, Calabash\, NC\, United States
END:VEVENT
BEGIN:VEVENT
DTSTART;TZID=America/New_York:20190313T180000
DTEND;TZID=America/New_York:20190313T210000
DTSTAMP:20260419T185924
CREATED:20190309T101939Z
LAST-MODIFIED:20190309T101939Z
UID:3126-1552500000-1552510800@ballroomdancepreservation.com
SUMMARY:Dancing at Calli Baker's
DESCRIPTION:Join members and friends for dancing to the Blue Moon Band at \nCalli Baker’s Firehouse Bar and Grill
URL:https://ballroomdancepreservation.com/event/dancing-at-calli-bakers/
LOCATION:Calli Baker’s Firehouse Bar & Grill\, 910 Lake Arrowhead Rd\, Myrtle Beach\, SC\, 29582
END:VEVENT
BEGIN:VEVENT
DTSTART;TZID=America/New_York:20190318T130000
DTEND;TZID=America/New_York:20190318T140000
DTSTAMP:20260419T185924
CREATED:20190309T102929Z
LAST-MODIFIED:20190309T102929Z
UID:3132-1552914000-1552917600@ballroomdancepreservation.com
SUMMARY:Lesson in Calabash
DESCRIPTION:Beginner Ballroom Lesson (East Coast Swing) taught by Sal Teta
URL:https://ballroomdancepreservation.com/event/lesson-in-calabash/
LOCATION:Brunswick Senior Resource Center\, 10050 Beach Drive\, Calabash\, NC\, United States
END:VEVENT
BEGIN:VEVENT
DTSTART;TZID=America/New_York:20190320T173000
DTEND;TZID=America/New_York:20190320T203000
DTSTAMP:20260419T185924
CREATED:20190115T003850Z
LAST-MODIFIED:20190115T004232Z
UID:3030-1553103000-1553113800@ballroomdancepreservation.com
SUMMARY:Vine Bistro
DESCRIPTION:Join BDPS members and friends for dinner and dancing at the Vine Bistro
URL:https://ballroomdancepreservation.com/event/vine-bistro-7/
LOCATION:Vine Bistro Myrtle Beach Restaurant Row
CATEGORIES:Dinner Dance
END:VEVENT
BEGIN:VEVENT
DTSTART;TZID=America/New_York:20190325T130000
DTEND;TZID=America/New_York:20190325T140000
DTSTAMP:20260419T185924
CREATED:20190309T103114Z
LAST-MODIFIED:20190309T103114Z
UID:3133-1553518800-1553522400@ballroomdancepreservation.com
SUMMARY:Lesson in Calabash
DESCRIPTION:Beginner Ballroom Lesson (East Coast Swing) taught by Sal Teta
URL:https://ballroomdancepreservation.com/event/lesson-in-calabash-2/
LOCATION:Brunswick Senior Resource Center\, 10050 Beach Drive\, Calabash\, NC\, United States
END:VEVENT
BEGIN:VEVENT
DTSTART;TZID=America/New_York:20190330T183000
DTEND;TZID=America/New_York:20190330T213000
DTSTAMP:20260419T185924
CREATED:20190309T103442Z
LAST-MODIFIED:20190309T190542Z
UID:3134-1553970600-1553981400@ballroomdancepreservation.com
SUMMARY:Great Gatsby Dance Party
DESCRIPTION:Click here to pay for Great Gatsby Party \n \nMust buy your tickets in advance.  May purchase in the website with credit card. \nCall Charlene at 703-795-0650 for more information.
URL:https://ballroomdancepreservation.com/event/great-gatsby-dance-party/
LOCATION:General Robert H. Reed Recreation Center\, 800 Gabreski Lane\, Myrtle Beach\, SC\, 29577
CATEGORIES:Ballroom Dance Event
END:VEVENT
END:VCALENDAR