BEGIN:VCALENDAR
VERSION:2.0
PRODID:-//Ballroom Dance Preservation Society - ECPv6.15.10//NONSGML v1.0//EN
CALSCALE:GREGORIAN
METHOD:PUBLISH
X-WR-CALNAME:Ballroom Dance Preservation Society
X-ORIGINAL-URL:https://ballroomdancepreservation.com
X-WR-CALDESC:Events for Ballroom Dance Preservation Society
REFRESH-INTERVAL;VALUE=DURATION:PT1H
X-Robots-Tag:noindex
X-PUBLISHED-TTL:PT1H
BEGIN:VTIMEZONE
TZID:America/New_York
BEGIN:DAYLIGHT
TZOFFSETFROM:-0500
TZOFFSETTO:-0400
TZNAME:EDT
DTSTART:20170312T070000
END:DAYLIGHT
BEGIN:STANDARD
TZOFFSETFROM:-0400
TZOFFSETTO:-0500
TZNAME:EST
DTSTART:20171105T060000
END:STANDARD
BEGIN:DAYLIGHT
TZOFFSETFROM:-0500
TZOFFSETTO:-0400
TZNAME:EDT
DTSTART:20180311T070000
END:DAYLIGHT
BEGIN:STANDARD
TZOFFSETFROM:-0400
TZOFFSETTO:-0500
TZNAME:EST
DTSTART:20181104T060000
END:STANDARD
BEGIN:DAYLIGHT
TZOFFSETFROM:-0500
TZOFFSETTO:-0400
TZNAME:EDT
DTSTART:20190310T070000
END:DAYLIGHT
BEGIN:STANDARD
TZOFFSETFROM:-0400
TZOFFSETTO:-0500
TZNAME:EST
DTSTART:20191103T060000
END:STANDARD
END:VTIMEZONE
BEGIN:VEVENT
DTSTART;TZID=America/New_York:20181208T100000
DTEND;TZID=America/New_York:20181208T120000
DTSTAMP:20260419T220505
CREATED:20181010T013357Z
LAST-MODIFIED:20181010T013414Z
UID:2690-1544263200-1544270400@ballroomdancepreservation.com
SUMMARY:Jump 'n' Java
DESCRIPTION:East Coast Swing Lesson with Clara Formosa\, Owner of By the Sea Ballroom & Latin Dance Studio
URL:https://ballroomdancepreservation.com/event/jump-n-java-7/
LOCATION:810 Lanes\, 1220 Moser Dr\, Myrtle Beach\, SC\, 29577\, United States
CATEGORIES:Ballroom Dance Event,Ballroom Dance Training,FREE Dance Lesson
END:VEVENT
BEGIN:VEVENT
DTSTART;TZID=America/New_York:20181217T130000
DTEND;TZID=America/New_York:20181217T140000
DTSTAMP:20260419T220505
CREATED:20181214T102841Z
LAST-MODIFIED:20181214T102841Z
UID:2939-1545051600-1545055200@ballroomdancepreservation.com
SUMMARY:Ballroom Lesson
DESCRIPTION:Free Ballroom Lesson with Sal Teta at the Calabash Senior Resource Center
URL:https://ballroomdancepreservation.com/event/ballroom-lesson-9/
LOCATION:Brunswick Senior Resource Center\, 10050 Beach Drive\, Calabash\, NC\, United States
CATEGORIES:FREE Dance Lesson
END:VEVENT
BEGIN:VEVENT
DTSTART;TZID=America/New_York:20181219T080000
DTEND;TZID=America/New_York:20181219T170000
DTSTAMP:20260419T220505
CREATED:20181220T005643Z
LAST-MODIFIED:20181220T005643Z
UID:2960-1545206400-1545238800@ballroomdancepreservation.com
SUMMARY:OLSS of the Sea Valentine's Dance
DESCRIPTION:This is not a BDPS event but Charlene will be putting a group together for this dance. \nMore details will be posted as available.
URL:https://ballroomdancepreservation.com/event/olss-of-the-sea-valentines-dance/
END:VEVENT
BEGIN:VEVENT
DTSTART;TZID=America/New_York:20181220T183000
DTEND;TZID=America/New_York:20181220T213000
DTSTAMP:20260419T220505
CREATED:20181220T010228Z
LAST-MODIFIED:20181220T010228Z
UID:2963-1545330600-1545341400@ballroomdancepreservation.com
SUMMARY:Great Gatsby Dance
DESCRIPTION:Our Great Gatsby Dance Event last year was so much fun\, we’re doing it again! \nMore details will be forthcoming!
URL:https://ballroomdancepreservation.com/event/great-gatsby-dance/
LOCATION:General Robert H. Reed Recreation Center\, 800 Gabreski Lane\, Myrtle Beach\, SC\, 29577
CATEGORIES:Ballroom Dance Event,FREE Dance Lesson
END:VEVENT
BEGIN:VEVENT
DTSTART;TZID=America/New_York:20181229T183000
DTEND;TZID=America/New_York:20181229T213000
DTSTAMP:20260419T220505
CREATED:20180525T193146Z
LAST-MODIFIED:20181105T090400Z
UID:2144-1546108200-1546119000@ballroomdancepreservation.com
SUMMARY:Holiday Bash
DESCRIPTION:Celebrate Christmas and New Years and any other Holiday you wish to celebrate \nduring this Holiday Season.  Larry Tannelli and Claudette will be entertaining! \nCatered heavy Hors d’oeurves will be served.  BYOB\, dressy affair! \n$20 members\,  $25 non-members
URL:https://ballroomdancepreservation.com/event/new-years-before-the-new-years-party/
LOCATION:General Robert H. Reed Recreation Center\, 800 Gabreski Lane\, Myrtle Beach\, SC\, 29577
CATEGORIES:Ballroom Dance Event
END:VEVENT
END:VCALENDAR