BEGIN:VCALENDAR
VERSION:2.0
PRODID:-//Ballroom Dance Preservation Society - ECPv6.15.10//NONSGML v1.0//EN
CALSCALE:GREGORIAN
METHOD:PUBLISH
X-WR-CALNAME:Ballroom Dance Preservation Society
X-ORIGINAL-URL:https://ballroomdancepreservation.com
X-WR-CALDESC:Events for Ballroom Dance Preservation Society
REFRESH-INTERVAL;VALUE=DURATION:PT1H
X-Robots-Tag:noindex
X-PUBLISHED-TTL:PT1H
BEGIN:VTIMEZONE
TZID:America/New_York
BEGIN:DAYLIGHT
TZOFFSETFROM:-0500
TZOFFSETTO:-0400
TZNAME:EDT
DTSTART:20170312T070000
END:DAYLIGHT
BEGIN:STANDARD
TZOFFSETFROM:-0400
TZOFFSETTO:-0500
TZNAME:EST
DTSTART:20171105T060000
END:STANDARD
BEGIN:DAYLIGHT
TZOFFSETFROM:-0500
TZOFFSETTO:-0400
TZNAME:EDT
DTSTART:20180311T070000
END:DAYLIGHT
BEGIN:STANDARD
TZOFFSETFROM:-0400
TZOFFSETTO:-0500
TZNAME:EST
DTSTART:20181104T060000
END:STANDARD
BEGIN:DAYLIGHT
TZOFFSETFROM:-0500
TZOFFSETTO:-0400
TZNAME:EDT
DTSTART:20190310T070000
END:DAYLIGHT
BEGIN:STANDARD
TZOFFSETFROM:-0400
TZOFFSETTO:-0500
TZNAME:EST
DTSTART:20191103T060000
END:STANDARD
END:VTIMEZONE
BEGIN:VEVENT
DTSTART;TZID=America/New_York:20181101T130000
DTEND;TZID=America/New_York:20181101T140000
DTSTAMP:20260419T234354
CREATED:20180804T004250Z
LAST-MODIFIED:20181010T012543Z
UID:2513-1541077200-1541080800@ballroomdancepreservation.com
SUMMARY:Ballroom Dance Lesson
DESCRIPTION:Free Lesson by Sal Teta
URL:https://ballroomdancepreservation.com/event/ballroom-dance-lesson-3/
LOCATION:Brunswick Senior Resource Center\, 10050 Beach Drive\, Calabash\, NC\, United States
CATEGORIES:FREE Dance Lesson
END:VEVENT
BEGIN:VEVENT
DTSTART;TZID=America/New_York:20181104T140000
DTEND;TZID=America/New_York:20181104T170000
DTSTAMP:20260419T234354
CREATED:20180714T072523Z
LAST-MODIFIED:20181008T211443Z
UID:2363-1541340000-1541350800@ballroomdancepreservation.com
SUMMARY:Inlet Square Mall
DESCRIPTION:Dancing in the Center Court of the Inlet Square Mall \n$5 Ballroom Dance Preservation Society Members \n$7 Non-members \nDJ Steve \n  \nRon and Beth Blankenstein will be teaching Foxtrot!
URL:https://ballroomdancepreservation.com/event/inlet-square-mall/
LOCATION:Inlet Square Mall\, 10125 Hwy 17 Bypass\, Murrells Inlet\, SC\, United States
CATEGORIES:Ballroom Dance Event
END:VEVENT
BEGIN:VEVENT
DTSTART;TZID=America/New_York:20181108T130000
DTEND;TZID=America/New_York:20181108T140000
DTSTAMP:20260419T234354
CREATED:20180804T004910Z
LAST-MODIFIED:20181021T171649Z
UID:2514-1541682000-1541685600@ballroomdancepreservation.com
SUMMARY:Ballroom Dance Lesson
DESCRIPTION:Free Ballroom Dance Lesson with Sal Teta
URL:https://ballroomdancepreservation.com/event/ballroom-dance-lesson-4/
LOCATION:Brunswick Senior Resource Center\, 10050 Beach Drive\, Calabash\, NC\, United States
CATEGORIES:Ballroom Dance Event,FREE Dance Lesson
END:VEVENT
BEGIN:VEVENT
DTSTART;TZID=America/New_York:20181110T100000
DTEND;TZID=America/New_York:20181110T100000
DTSTAMP:20260419T234354
CREATED:20181005T001916Z
LAST-MODIFIED:20181008T211402Z
UID:2680-1541844000-1541844000@ballroomdancepreservation.com
SUMMARY:Jump 'n' Java
DESCRIPTION:Breakfast and Dancing! \n10 am  Arrive\, socialize\, dance\, coffee and donuts/pastries available \n10:30-11 am  Waltz lesson with Sandra Lucas-Hyde \n11 am to noon – Open dancing\, 810 Full menu available \nFree except for the cost of your food \nBDPS members receive 20{e9420259e37f7dd44db68ca7ce0dae768f0647300582c8437fea6ed4ec6f4cdd} off food purchase \n 
URL:https://ballroomdancepreservation.com/event/jump-n-java-6/
LOCATION:810 Lanes\, 1220 Moser Dr\, Myrtle Beach\, SC\, 29577\, United States
CATEGORIES:Ballroom Dance Event,FREE Dance Lesson
END:VEVENT
BEGIN:VEVENT
DTSTART;TZID=America/New_York:20181111T170000
DTEND;TZID=America/New_York:20181111T210000
DTSTAMP:20260419T234354
CREATED:20180122T011125Z
LAST-MODIFIED:20180804T004105Z
UID:507-1541955600-1541970000@ballroomdancepreservation.com
SUMMARY:BDPS FIRST ANNUAL BALL
DESCRIPTION:Cocktail Hour 5 pm to 6 pm – Cash Bar\,   Hors D’oeuvres \nStarduster Big Band (17 piece plus Vocalist) \nDinner Menu \nTossed garden salad with ranch or raspberry vinaigrette dressings \nWarm yeast rolls \nYour choice of 5oz Filet Mignon with a mushroom Demi glace or \nGrilled Salmom with lemon-wine sauce \nRice Pilaf \nSeasonal vegetable medley \nDessert table: Assorted pies and cakes \nDiscounted Hotel prices are available \nBDPS Members $55 per person \nNon Members  $65 per person
URL:https://ballroomdancepreservation.com/event/bdps-first-annual-ball/
LOCATION:Sea Trail Resort\, 75A Clubhouse Road\, Sunset Beach\, NC\, 28468
CATEGORIES:Ballroom Dance Event,Dinner Dance
END:VEVENT
BEGIN:VEVENT
DTSTART;TZID=America/New_York:20181115T130000
DTEND;TZID=America/New_York:20181115T140000
DTSTAMP:20260419T234354
CREATED:20181010T012947Z
LAST-MODIFIED:20181010T012947Z
UID:2688-1542286800-1542290400@ballroomdancepreservation.com
SUMMARY:Ballroom Lesson
DESCRIPTION:Free lesson with Sal Teta
URL:https://ballroomdancepreservation.com/event/ballroom-lesson-7/
LOCATION:Brunswick Senior Resource Center\, 10050 Beach Drive\, Calabash\, NC\, United States
CATEGORIES:FREE Dance Lesson
END:VEVENT
BEGIN:VEVENT
DTSTART;TZID=America/New_York:20181128T173000
DTEND;TZID=America/New_York:20181128T203000
DTSTAMP:20260419T234354
CREATED:20181021T171927Z
LAST-MODIFIED:20181021T171927Z
UID:2697-1543426200-1543437000@ballroomdancepreservation.com
SUMMARY:Vine Bistro
DESCRIPTION:Join Ballroom Dance Preservation Society members and friends at the Vine Bistro \nas they dance to the music of Larry Tannelli and Claudette.
URL:https://ballroomdancepreservation.com/event/vine-bistro-3/
LOCATION:Vine Bistro Myrtle Beach Restaurant Row
CATEGORIES:Ballroom Dance Event
END:VEVENT
BEGIN:VEVENT
DTSTART;TZID=America/New_York:20181129T130000
DTEND;TZID=America/New_York:20181129T140000
DTSTAMP:20260419T234354
CREATED:20181010T013114Z
LAST-MODIFIED:20181010T013114Z
UID:2689-1543496400-1543500000@ballroomdancepreservation.com
SUMMARY:Ballroom Lesson
DESCRIPTION:Free lesson with Sal Teta
URL:https://ballroomdancepreservation.com/event/ballroom-lesson-8/
LOCATION:Brunswick Senior Resource Center\, 10050 Beach Drive\, Calabash\, NC\, United States
CATEGORIES:FREE Dance Lesson
END:VEVENT
END:VCALENDAR