BEGIN:VCALENDAR
VERSION:2.0
PRODID:-//Ballroom Dance Preservation Society - ECPv6.15.10//NONSGML v1.0//EN
CALSCALE:GREGORIAN
METHOD:PUBLISH
X-ORIGINAL-URL:https://ballroomdancepreservation.com
X-WR-CALDESC:Events for Ballroom Dance Preservation Society
REFRESH-INTERVAL;VALUE=DURATION:PT1H
X-Robots-Tag:noindex
X-PUBLISHED-TTL:PT1H
BEGIN:VTIMEZONE
TZID:America/New_York
BEGIN:DAYLIGHT
TZOFFSETFROM:-0500
TZOFFSETTO:-0400
TZNAME:EDT
DTSTART:20170312T070000
END:DAYLIGHT
BEGIN:STANDARD
TZOFFSETFROM:-0400
TZOFFSETTO:-0500
TZNAME:EST
DTSTART:20171105T060000
END:STANDARD
BEGIN:DAYLIGHT
TZOFFSETFROM:-0500
TZOFFSETTO:-0400
TZNAME:EDT
DTSTART:20180311T070000
END:DAYLIGHT
BEGIN:STANDARD
TZOFFSETFROM:-0400
TZOFFSETTO:-0500
TZNAME:EST
DTSTART:20181104T060000
END:STANDARD
BEGIN:DAYLIGHT
TZOFFSETFROM:-0500
TZOFFSETTO:-0400
TZNAME:EDT
DTSTART:20190310T070000
END:DAYLIGHT
BEGIN:STANDARD
TZOFFSETFROM:-0400
TZOFFSETTO:-0500
TZNAME:EST
DTSTART:20191103T060000
END:STANDARD
END:VTIMEZONE
BEGIN:VEVENT
DTSTART;TZID=America/New_York:20181001T103000
DTEND;TZID=America/New_York:20181001T113000
DTSTAMP:20260420T024712
CREATED:20180802T204700Z
LAST-MODIFIED:20180908T010109Z
UID:2487-1538389800-1538393400@ballroomdancepreservation.com
SUMMARY:Ballroom Lesson
DESCRIPTION:Free Ballroom Lesson by Sal Teta
URL:https://ballroomdancepreservation.com/event/ballroom-lesson/
LOCATION:Brunswick Senior Resource Center\, 10050 Beach Drive\, Calabash\, NC\, United States
CATEGORIES:FREE Dance Lesson
END:VEVENT
BEGIN:VEVENT
DTSTART;TZID=America/New_York:20181005T190000
DTEND;TZID=America/New_York:20181005T210000
DTSTAMP:20260420T024712
CREATED:20180805T234725Z
LAST-MODIFIED:20180805T234725Z
UID:2517-1538766000-1538773200@ballroomdancepreservation.com
SUMMARY:Carolina Dance Partner's Party
DESCRIPTION:
URL:https://ballroomdancepreservation.com/event/carolina-dance-partners-party/
LOCATION:1st Presbyterian Church\, 3810 Robert Grissom Pkwy Myrtle Beach\, SC
CATEGORIES:Ballroom Dance Event
END:VEVENT
BEGIN:VEVENT
DTSTART;TZID=America/New_York:20181007T140000
DTEND;TZID=America/New_York:20181007T170000
DTSTAMP:20260420T024712
CREATED:20180714T073145Z
LAST-MODIFIED:20180714T074610Z
UID:2366-1538920800-1538931600@ballroomdancepreservation.com
SUMMARY:Dancing Inlet Square Mall
DESCRIPTION:Dancing in the Center Court of Inlet Square Mall\, 10125 Hwy 17 Bypass\, Murrells Inlet\, SC \nBallroom Dance Preservation Society Members  $5 \nNon Members  $7 \n 
URL:https://ballroomdancepreservation.com/event/dancing-inlet-square-mall/
LOCATION:Inlet Square Mall\, 10125 Hwy 17 Bypass\, Murrells Inlet\, SC\, United States
CATEGORIES:Ballroom Dance Event
END:VEVENT
BEGIN:VEVENT
DTSTART;TZID=America/New_York:20181013T100000
DTEND;TZID=America/New_York:20181013T120000
DTSTAMP:20260420T024712
CREATED:20181004T235234Z
LAST-MODIFIED:20181008T210835Z
UID:2676-1539424800-1539432000@ballroomdancepreservation.com
SUMMARY:Jump 'n' Java
DESCRIPTION:Dawn Holden will be teach a Country 2 Step on October 13th from 10:30 to 11 am \n 
URL:https://ballroomdancepreservation.com/event/jumpp-n-java/
LOCATION:810 Lanes\, 1220 Moser Dr\, Myrtle Beach\, SC\, 29577\, United States
CATEGORIES:Ballroom Dance Event,FREE Dance Lesson
END:VEVENT
BEGIN:VEVENT
DTSTART;TZID=America/New_York:20181013T110000
DTEND;TZID=America/New_York:20181013T120000
DTSTAMP:20260420T024712
CREATED:20180803T011111Z
LAST-MODIFIED:20180803T011111Z
UID:2505-1539428400-1539432000@ballroomdancepreservation.com
SUMMARY:USA Dance
DESCRIPTION:
URL:https://ballroomdancepreservation.com/event/usa-dance-4/
LOCATION:General Robert H. Reed Recreation Center\, 800 Gabreski Lane\, Myrtle Beach\, SC\, 29577
END:VEVENT
BEGIN:VEVENT
DTSTART;TZID=America/New_York:20181014T130000
DTEND;TZID=America/New_York:20181014T170000
DTSTAMP:20260420T024712
CREATED:20180525T192025Z
LAST-MODIFIED:20180921T152334Z
UID:2135-1539522000-1539536400@ballroomdancepreservation.com
SUMMARY:Member Only Party
DESCRIPTION:Our second annual Member Only Party!  We had a blast last year. The party will be held at the Barefoot Resort Residence Club\, 3100 Marsh Glen Drive\, N Myrle Beach.  This year Larry Tannelli and Claudette will entertain! \nMembers\, please bring a dish  to share.
URL:https://ballroomdancepreservation.com/event/member-only-party/
LOCATION:Home of Steve & Charlene Dougherty\, 4903 Stonegate Drive\, N Myrtle Beach\, SC\, 29582
CATEGORIES:Ballroom Dance Event
END:VEVENT
BEGIN:VEVENT
DTSTART;TZID=America/New_York:20181015T103000
DTEND;TZID=America/New_York:20181015T113000
DTSTAMP:20260420T024712
CREATED:20180803T010535Z
LAST-MODIFIED:20181005T000730Z
UID:2502-1539599400-1539603000@ballroomdancepreservation.com
SUMMARY:Ballroom Lesson
DESCRIPTION:Free Ballroom Practice Party with Charlene
URL:https://ballroomdancepreservation.com/event/ballroom-lesson-5/
LOCATION:Brunswick Senior Resource Center\, 10050 Beach Drive\, Calabash\, NC\, United States
CATEGORIES:FREE Dance Lesson
END:VEVENT
BEGIN:VEVENT
DTSTART;TZID=America/New_York:20181020T183000
DTEND;TZID=America/New_York:20181020T213000
DTSTAMP:20260420T024712
CREATED:20180830T002321Z
LAST-MODIFIED:20180922T122019Z
UID:2606-1540060200-1540071000@ballroomdancepreservation.com
SUMMARY:Beach Ballroom 23rd Anniversary Dance
DESCRIPTION:Dancing to music by Caryn & Karl
URL:https://ballroomdancepreservation.com/event/beach-ballroom-2/
LOCATION:Grand Strand Senior Center\, 1268 21st Ave N.\, Myrtle Beach\, 29697\, United States
END:VEVENT
BEGIN:VEVENT
DTSTART;TZID=America/New_York:20181022T103000
DTEND;TZID=America/New_York:20181022T113000
DTSTAMP:20260420T024712
CREATED:20180803T010712Z
LAST-MODIFIED:20181005T000828Z
UID:2503-1540204200-1540207800@ballroomdancepreservation.com
SUMMARY:Ballroom Lesson
DESCRIPTION:Free Ballroom Practice Party with Charlene
URL:https://ballroomdancepreservation.com/event/ballroom-lesson-6/
CATEGORIES:FREE Dance Lesson
END:VEVENT
BEGIN:VEVENT
DTSTART;TZID=America/New_York:20181024T173000
DTEND;TZID=America/New_York:20181024T203000
DTSTAMP:20260420T024712
CREATED:20181004T235542Z
LAST-MODIFIED:20181004T235542Z
UID:2677-1540402200-1540413000@ballroomdancepreservation.com
SUMMARY:Vine Bistro
DESCRIPTION:  \nJoin BDPS members and friends for Happy Hour or Dinner and Dancing with Larry Tannelli and Claudette entertaining \nFree event except for your food purchase
URL:https://ballroomdancepreservation.com/event/vine-bistro-2/
LOCATION:Vine Bistro Myrtle Beach Restaurant Row
CATEGORIES:Ballroom Dance Event,Dinner Dance,Dutch Treat
END:VEVENT
BEGIN:VEVENT
DTSTART;TZID=America/New_York:20181026T180000
DTEND;TZID=America/New_York:20181026T210000
DTSTAMP:20260420T024712
CREATED:20180804T003103Z
LAST-MODIFIED:20180804T003103Z
UID:2510-1540576800-1540587600@ballroomdancepreservation.com
SUMMARY:Elks Club
DESCRIPTION:This is a private dinner/dance but if you would like to go asCharlene is a member and can take guests.  Please contact her if you are interested. \n 
URL:https://ballroomdancepreservation.com/event/elks-club/
END:VEVENT
BEGIN:VEVENT
DTSTART;TZID=America/New_York:20181026T200000
DTEND;TZID=America/New_York:20181026T230000
DTSTAMP:20260420T024712
CREATED:20180805T234934Z
LAST-MODIFIED:20180805T234934Z
UID:2518-1540584000-1540594800@ballroomdancepreservation.com
SUMMARY:By the Sea Studio Party
DESCRIPTION:
URL:https://ballroomdancepreservation.com/event/by-the-sea-studio-party-3/
LOCATION:By the Sea Latin and Ballroom Studio\, 1145 Robert Grissom Pkwy\, Myrtle Beach\, SC\, United States
CATEGORIES:Ballroom Dance Event
END:VEVENT
BEGIN:VEVENT
DTSTART;TZID=America/New_York:20181029T103000
DTEND;TZID=America/New_York:20181029T113000
DTSTAMP:20260420T024712
CREATED:20180803T010901Z
LAST-MODIFIED:20180908T010627Z
UID:2504-1540809000-1540812600@ballroomdancepreservation.com
SUMMARY:Ballroom Dance Lesson
DESCRIPTION:Free Ballroom Dance Lesson with Sal Teta
URL:https://ballroomdancepreservation.com/event/ballroom-dance-lesson-2/
LOCATION:Brunswick Senior Resource Center\, 10050 Beach Drive\, Calabash\, NC\, United States
END:VEVENT
END:VCALENDAR