BEGIN:VCALENDAR
VERSION:2.0
PRODID:-//Ballroom Dance Preservation Society - ECPv6.15.10//NONSGML v1.0//EN
CALSCALE:GREGORIAN
METHOD:PUBLISH
X-WR-CALNAME:Ballroom Dance Preservation Society
X-ORIGINAL-URL:https://ballroomdancepreservation.com
X-WR-CALDESC:Events for Ballroom Dance Preservation Society
REFRESH-INTERVAL;VALUE=DURATION:PT1H
X-Robots-Tag:noindex
X-PUBLISHED-TTL:PT1H
BEGIN:VTIMEZONE
TZID:America/New_York
BEGIN:DAYLIGHT
TZOFFSETFROM:-0500
TZOFFSETTO:-0400
TZNAME:EDT
DTSTART:20180311T070000
END:DAYLIGHT
BEGIN:STANDARD
TZOFFSETFROM:-0400
TZOFFSETTO:-0500
TZNAME:EST
DTSTART:20181104T060000
END:STANDARD
BEGIN:DAYLIGHT
TZOFFSETFROM:-0500
TZOFFSETTO:-0400
TZNAME:EDT
DTSTART:20190310T070000
END:DAYLIGHT
BEGIN:STANDARD
TZOFFSETFROM:-0400
TZOFFSETTO:-0500
TZNAME:EST
DTSTART:20191103T060000
END:STANDARD
BEGIN:DAYLIGHT
TZOFFSETFROM:-0500
TZOFFSETTO:-0400
TZNAME:EDT
DTSTART:20200308T070000
END:DAYLIGHT
BEGIN:STANDARD
TZOFFSETFROM:-0400
TZOFFSETTO:-0500
TZNAME:EST
DTSTART:20201101T060000
END:STANDARD
END:VTIMEZONE
BEGIN:VEVENT
DTSTART;TZID=America/New_York:20190114T080000
DTEND;TZID=America/New_York:20190114T170000
DTSTAMP:20260419T221232
CREATED:20190115T002040Z
LAST-MODIFIED:20190115T002040Z
UID:3027-1547452800-1547485200@ballroomdancepreservation.com
SUMMARY:Vine Bistro
DESCRIPTION:Join BDPS members and friends for dinner and dancing to the wonderful music of \nLarry Tannelli and Claudette
URL:https://ballroomdancepreservation.com/event/vine-bistro-5/
CATEGORIES:Dutch Treat
END:VEVENT
BEGIN:VEVENT
DTSTART;TZID=America/New_York:20190114T130000
DTEND;TZID=America/New_York:20190114T140000
DTSTAMP:20260419T221232
CREATED:20181214T103140Z
LAST-MODIFIED:20190111T021042Z
UID:2941-1547470800-1547474400@ballroomdancepreservation.com
SUMMARY:Ballroom Lesson
DESCRIPTION:Free Ballroom Lesson with Sal Teta-  Beginner Cha Cha
URL:https://ballroomdancepreservation.com/event/ballroom-lesson-11/
LOCATION:Brunswick Senior Resource Center\, 10050 Beach Drive\, Calabash\, NC\, United States
CATEGORIES:FREE Dance Lesson
END:VEVENT
END:VCALENDAR