BEGIN:VCALENDAR
VERSION:2.0
PRODID:-//Ballroom Dance Preservation Society - ECPv6.15.10//NONSGML v1.0//EN
CALSCALE:GREGORIAN
METHOD:PUBLISH
X-WR-CALNAME:Ballroom Dance Preservation Society
X-ORIGINAL-URL:https://ballroomdancepreservation.com
X-WR-CALDESC:Events for Ballroom Dance Preservation Society
REFRESH-INTERVAL;VALUE=DURATION:PT1H
X-Robots-Tag:noindex
X-PUBLISHED-TTL:PT1H
BEGIN:VTIMEZONE
TZID:America/New_York
BEGIN:DAYLIGHT
TZOFFSETFROM:-0500
TZOFFSETTO:-0400
TZNAME:EDT
DTSTART:20170312T070000
END:DAYLIGHT
BEGIN:STANDARD
TZOFFSETFROM:-0400
TZOFFSETTO:-0500
TZNAME:EST
DTSTART:20171105T060000
END:STANDARD
BEGIN:DAYLIGHT
TZOFFSETFROM:-0500
TZOFFSETTO:-0400
TZNAME:EDT
DTSTART:20180311T070000
END:DAYLIGHT
BEGIN:STANDARD
TZOFFSETFROM:-0400
TZOFFSETTO:-0500
TZNAME:EST
DTSTART:20181104T060000
END:STANDARD
BEGIN:DAYLIGHT
TZOFFSETFROM:-0500
TZOFFSETTO:-0400
TZNAME:EDT
DTSTART:20190310T070000
END:DAYLIGHT
BEGIN:STANDARD
TZOFFSETFROM:-0400
TZOFFSETTO:-0500
TZNAME:EST
DTSTART:20191103T060000
END:STANDARD
END:VTIMEZONE
BEGIN:VEVENT
DTSTART;TZID=America/New_York:20181219T080000
DTEND;TZID=America/New_York:20181219T170000
DTSTAMP:20260419T234354
CREATED:20181220T005643Z
LAST-MODIFIED:20181220T005643Z
UID:2960-1545206400-1545238800@ballroomdancepreservation.com
SUMMARY:OLSS of the Sea Valentine's Dance
DESCRIPTION:This is not a BDPS event but Charlene will be putting a group together for this dance. \nMore details will be posted as available.
URL:https://ballroomdancepreservation.com/event/olss-of-the-sea-valentines-dance/
END:VEVENT
END:VCALENDAR