BEGIN:VCALENDAR
VERSION:2.0
PRODID:-//Ballroom Dance Preservation Society - ECPv6.15.10//NONSGML v1.0//EN
CALSCALE:GREGORIAN
METHOD:PUBLISH
X-WR-CALNAME:Ballroom Dance Preservation Society
X-ORIGINAL-URL:https://ballroomdancepreservation.com
X-WR-CALDESC:Events for Ballroom Dance Preservation Society
REFRESH-INTERVAL;VALUE=DURATION:PT1H
X-Robots-Tag:noindex
X-PUBLISHED-TTL:PT1H
BEGIN:VTIMEZONE
TZID:America/New_York
BEGIN:DAYLIGHT
TZOFFSETFROM:-0500
TZOFFSETTO:-0400
TZNAME:EDT
DTSTART:20170312T070000
END:DAYLIGHT
BEGIN:STANDARD
TZOFFSETFROM:-0400
TZOFFSETTO:-0500
TZNAME:EST
DTSTART:20171105T060000
END:STANDARD
BEGIN:DAYLIGHT
TZOFFSETFROM:-0500
TZOFFSETTO:-0400
TZNAME:EDT
DTSTART:20180311T070000
END:DAYLIGHT
BEGIN:STANDARD
TZOFFSETFROM:-0400
TZOFFSETTO:-0500
TZNAME:EST
DTSTART:20181104T060000
END:STANDARD
BEGIN:DAYLIGHT
TZOFFSETFROM:-0500
TZOFFSETTO:-0400
TZNAME:EDT
DTSTART:20190310T070000
END:DAYLIGHT
BEGIN:STANDARD
TZOFFSETFROM:-0400
TZOFFSETTO:-0500
TZNAME:EST
DTSTART:20191103T060000
END:STANDARD
END:VTIMEZONE
BEGIN:VEVENT
DTSTART;TZID=America/New_York:20181014T130000
DTEND;TZID=America/New_York:20181014T170000
DTSTAMP:20260420T041502
CREATED:20180525T192025Z
LAST-MODIFIED:20180921T152334Z
UID:2135-1539522000-1539536400@ballroomdancepreservation.com
SUMMARY:Member Only Party
DESCRIPTION:Our second annual Member Only Party!  We had a blast last year. The party will be held at the Barefoot Resort Residence Club\, 3100 Marsh Glen Drive\, N Myrle Beach.  This year Larry Tannelli and Claudette will entertain! \nMembers\, please bring a dish  to share.
URL:https://ballroomdancepreservation.com/event/member-only-party/
LOCATION:Home of Steve & Charlene Dougherty\, 4903 Stonegate Drive\, N Myrtle Beach\, SC\, 29582
CATEGORIES:Ballroom Dance Event
END:VEVENT
END:VCALENDAR