BEGIN:VCALENDAR
VERSION:2.0
PRODID:-//Ballroom Dance Preservation Society - ECPv6.15.10//NONSGML v1.0//EN
CALSCALE:GREGORIAN
METHOD:PUBLISH
X-WR-CALNAME:Ballroom Dance Preservation Society
X-ORIGINAL-URL:https://ballroomdancepreservation.com
X-WR-CALDESC:Events for Ballroom Dance Preservation Society
REFRESH-INTERVAL;VALUE=DURATION:PT1H
X-Robots-Tag:noindex
X-PUBLISHED-TTL:PT1H
BEGIN:VTIMEZONE
TZID:America/New_York
BEGIN:DAYLIGHT
TZOFFSETFROM:-0500
TZOFFSETTO:-0400
TZNAME:EDT
DTSTART:20170312T070000
END:DAYLIGHT
BEGIN:STANDARD
TZOFFSETFROM:-0400
TZOFFSETTO:-0500
TZNAME:EST
DTSTART:20171105T060000
END:STANDARD
BEGIN:DAYLIGHT
TZOFFSETFROM:-0500
TZOFFSETTO:-0400
TZNAME:EDT
DTSTART:20180311T070000
END:DAYLIGHT
BEGIN:STANDARD
TZOFFSETFROM:-0400
TZOFFSETTO:-0500
TZNAME:EST
DTSTART:20181104T060000
END:STANDARD
BEGIN:DAYLIGHT
TZOFFSETFROM:-0500
TZOFFSETTO:-0400
TZNAME:EDT
DTSTART:20190310T070000
END:DAYLIGHT
BEGIN:STANDARD
TZOFFSETFROM:-0400
TZOFFSETTO:-0500
TZNAME:EST
DTSTART:20191103T060000
END:STANDARD
END:VTIMEZONE
BEGIN:VEVENT
DTSTART;TZID=America/New_York:20181007T140000
DTEND;TZID=America/New_York:20181007T170000
DTSTAMP:20260420T041503
CREATED:20180714T073145Z
LAST-MODIFIED:20180714T074610Z
UID:2366-1538920800-1538931600@ballroomdancepreservation.com
SUMMARY:Dancing Inlet Square Mall
DESCRIPTION:Dancing in the Center Court of Inlet Square Mall\, 10125 Hwy 17 Bypass\, Murrells Inlet\, SC \nBallroom Dance Preservation Society Members  $5 \nNon Members  $7 \n 
URL:https://ballroomdancepreservation.com/event/dancing-inlet-square-mall/
LOCATION:Inlet Square Mall\, 10125 Hwy 17 Bypass\, Murrells Inlet\, SC\, United States
CATEGORIES:Ballroom Dance Event
END:VEVENT
END:VCALENDAR