BEGIN:VCALENDAR
VERSION:2.0
PRODID:-//Ballroom Dance Preservation Society - ECPv6.15.10//NONSGML v1.0//EN
CALSCALE:GREGORIAN
METHOD:PUBLISH
X-WR-CALNAME:Ballroom Dance Preservation Society
X-ORIGINAL-URL:https://ballroomdancepreservation.com
X-WR-CALDESC:Events for Ballroom Dance Preservation Society
REFRESH-INTERVAL;VALUE=DURATION:PT1H
X-Robots-Tag:noindex
X-PUBLISHED-TTL:PT1H
BEGIN:VTIMEZONE
TZID:America/New_York
BEGIN:DAYLIGHT
TZOFFSETFROM:-0500
TZOFFSETTO:-0400
TZNAME:EDT
DTSTART:20170312T070000
END:DAYLIGHT
BEGIN:STANDARD
TZOFFSETFROM:-0400
TZOFFSETTO:-0500
TZNAME:EST
DTSTART:20171105T060000
END:STANDARD
BEGIN:DAYLIGHT
TZOFFSETFROM:-0500
TZOFFSETTO:-0400
TZNAME:EDT
DTSTART:20180311T070000
END:DAYLIGHT
BEGIN:STANDARD
TZOFFSETFROM:-0400
TZOFFSETTO:-0500
TZNAME:EST
DTSTART:20181104T060000
END:STANDARD
BEGIN:DAYLIGHT
TZOFFSETFROM:-0500
TZOFFSETTO:-0400
TZNAME:EDT
DTSTART:20190310T070000
END:DAYLIGHT
BEGIN:STANDARD
TZOFFSETFROM:-0400
TZOFFSETTO:-0500
TZNAME:EST
DTSTART:20191103T060000
END:STANDARD
END:VTIMEZONE
BEGIN:VEVENT
DTSTART;TZID=America/New_York:20180915T090000
DTEND;TZID=America/New_York:20180915T110000
DTSTAMP:20260422T041634
CREATED:20180816T125305Z
LAST-MODIFIED:20180822T183659Z
UID:2541-1537002000-1537009200@ballroomdancepreservation.com
SUMMARY:Jump 'n' Java
DESCRIPTION:Breakfast and Dancing for your morning workout! \nLearn a Country 2 Step with  Dawn Holden and dance some more \nAnd it’s free!  BDPS members will receive 20{e9420259e37f7dd44db68ca7ce0dae768f0647300582c8437fea6ed4ec6f4cdd} off breakfast during Jump ‘n’ Java
URL:https://ballroomdancepreservation.com/event/jump-n-java-3/
CATEGORIES:Ballroom Dance Event
END:VEVENT
BEGIN:VEVENT
DTSTART;TZID=America/New_York:20180915T180000
DTEND;TZID=America/New_York:20180915T210000
DTSTAMP:20260422T041634
CREATED:20180803T011534Z
LAST-MODIFIED:20180822T183606Z
UID:2506-1537034400-1537045200@ballroomdancepreservation.com
SUMMARY:Calabash Elks
DESCRIPTION:Dinner/Dance – at the Calabash Elks Lodge \nThis is a private function but you can go as Charlene’s guest. \nCall Charlene about tickets \n703-795-0650 \n  \n 
URL:https://ballroomdancepreservation.com/event/knights-of-columbus/
LOCATION:Our Lady Star of the Sea Catholic Church 1100 8th ave North Myrtle Beach
END:VEVENT
BEGIN:VEVENT
DTSTART;TZID=America/New_York:20180915T190000
DTEND;TZID=America/New_York:20180915T220000
DTSTAMP:20260422T041634
CREATED:20180803T005352Z
LAST-MODIFIED:20180830T001241Z
UID:2495-1537038000-1537048800@ballroomdancepreservation.com
SUMMARY:Beach Ballroom
DESCRIPTION:DJ Bob Urick
URL:https://ballroomdancepreservation.com/event/beach-ballroom/
LOCATION:Grand Strand Senior Center\, 1268 21st Ave N.\, Myrtle Beach\, 29697\, United States
CATEGORIES:Ballroom Dance Event
END:VEVENT
END:VCALENDAR