BEGIN:VCALENDAR
VERSION:2.0
PRODID:-//Ballroom Dance Preservation Society - ECPv6.15.10//NONSGML v1.0//EN
CALSCALE:GREGORIAN
METHOD:PUBLISH
X-WR-CALNAME:Ballroom Dance Preservation Society
X-ORIGINAL-URL:https://ballroomdancepreservation.com
X-WR-CALDESC:Events for Ballroom Dance Preservation Society
REFRESH-INTERVAL;VALUE=DURATION:PT1H
X-Robots-Tag:noindex
X-PUBLISHED-TTL:PT1H
BEGIN:VTIMEZONE
TZID:America/New_York
BEGIN:DAYLIGHT
TZOFFSETFROM:-0500
TZOFFSETTO:-0400
TZNAME:EDT
DTSTART:20170312T070000
END:DAYLIGHT
BEGIN:STANDARD
TZOFFSETFROM:-0400
TZOFFSETTO:-0500
TZNAME:EST
DTSTART:20171105T060000
END:STANDARD
BEGIN:DAYLIGHT
TZOFFSETFROM:-0500
TZOFFSETTO:-0400
TZNAME:EDT
DTSTART:20180311T070000
END:DAYLIGHT
BEGIN:STANDARD
TZOFFSETFROM:-0400
TZOFFSETTO:-0500
TZNAME:EST
DTSTART:20181104T060000
END:STANDARD
BEGIN:DAYLIGHT
TZOFFSETFROM:-0500
TZOFFSETTO:-0400
TZNAME:EDT
DTSTART:20190310T070000
END:DAYLIGHT
BEGIN:STANDARD
TZOFFSETFROM:-0400
TZOFFSETTO:-0500
TZNAME:EST
DTSTART:20191103T060000
END:STANDARD
END:VTIMEZONE
BEGIN:VEVENT
DTSTART;TZID=America/New_York:20180909T140000
DTEND;TZID=America/New_York:20180909T170000
DTSTAMP:20260422T041633
CREATED:20180714T073349Z
LAST-MODIFIED:20180802T203722Z
UID:2369-1536501600-1536512400@ballroomdancepreservation.com
SUMMARY:Dancing at Inlet Square Mall
DESCRIPTION:Dancing in the Center Court at Inlet Square Mall \nCha Cha Lesson 2pm to 2:30pm \nBallroom Dance Preservation Society Members  $5 \nNon Members  $7 \nDJ Steve
URL:https://ballroomdancepreservation.com/event/dancing-at-inlet-square-mall/
LOCATION:Inlet Square Mall\, 10125 Hwy 17 Bypass\, Murrells Inlet\, SC\, United States
CATEGORIES:Ballroom Dance Event
END:VEVENT
END:VCALENDAR