BEGIN:VCALENDAR
VERSION:2.0
PRODID:-//Ballroom Dance Preservation Society - ECPv6.15.10//NONSGML v1.0//EN
CALSCALE:GREGORIAN
METHOD:PUBLISH
X-ORIGINAL-URL:https://ballroomdancepreservation.com
X-WR-CALDESC:Events for Ballroom Dance Preservation Society
REFRESH-INTERVAL;VALUE=DURATION:PT1H
X-Robots-Tag:noindex
X-PUBLISHED-TTL:PT1H
BEGIN:VTIMEZONE
TZID:America/New_York
BEGIN:DAYLIGHT
TZOFFSETFROM:-0500
TZOFFSETTO:-0400
TZNAME:EDT
DTSTART:20170312T070000
END:DAYLIGHT
BEGIN:STANDARD
TZOFFSETFROM:-0400
TZOFFSETTO:-0500
TZNAME:EST
DTSTART:20171105T060000
END:STANDARD
BEGIN:DAYLIGHT
TZOFFSETFROM:-0500
TZOFFSETTO:-0400
TZNAME:EDT
DTSTART:20180311T070000
END:DAYLIGHT
BEGIN:STANDARD
TZOFFSETFROM:-0400
TZOFFSETTO:-0500
TZNAME:EST
DTSTART:20181104T060000
END:STANDARD
BEGIN:DAYLIGHT
TZOFFSETFROM:-0500
TZOFFSETTO:-0400
TZNAME:EDT
DTSTART:20190310T070000
END:DAYLIGHT
BEGIN:STANDARD
TZOFFSETFROM:-0400
TZOFFSETTO:-0500
TZNAME:EST
DTSTART:20191103T060000
END:STANDARD
END:VTIMEZONE
BEGIN:VEVENT
DTSTART;TZID=America/New_York:20180811T183000
DTEND;TZID=America/New_York:20180811T213000
DTSTAMP:20260422T052855
CREATED:20180729T233702Z
LAST-MODIFIED:20180729T233702Z
UID:2470-1534012200-1534023000@ballroomdancepreservation.com
SUMMARY:USA Dance
DESCRIPTION:
URL:https://ballroomdancepreservation.com/event/usa-dance-3/
LOCATION:General Robert H. Reed Recreation Center\, 800 Gabreski Lane\, Myrtle Beach\, SC\, 29577
CATEGORIES:Ballroom Dance Event
END:VEVENT
END:VCALENDAR