BEGIN:VCALENDAR
VERSION:2.0
PRODID:-//Ballroom Dance Preservation Society - ECPv6.15.10//NONSGML v1.0//EN
CALSCALE:GREGORIAN
METHOD:PUBLISH
X-ORIGINAL-URL:https://ballroomdancepreservation.com
X-WR-CALDESC:Events for Ballroom Dance Preservation Society
REFRESH-INTERVAL;VALUE=DURATION:PT1H
X-Robots-Tag:noindex
X-PUBLISHED-TTL:PT1H
BEGIN:VTIMEZONE
TZID:America/New_York
BEGIN:DAYLIGHT
TZOFFSETFROM:-0500
TZOFFSETTO:-0400
TZNAME:EDT
DTSTART:20170312T070000
END:DAYLIGHT
BEGIN:STANDARD
TZOFFSETFROM:-0400
TZOFFSETTO:-0500
TZNAME:EST
DTSTART:20171105T060000
END:STANDARD
BEGIN:DAYLIGHT
TZOFFSETFROM:-0500
TZOFFSETTO:-0400
TZNAME:EDT
DTSTART:20180311T070000
END:DAYLIGHT
BEGIN:STANDARD
TZOFFSETFROM:-0400
TZOFFSETTO:-0500
TZNAME:EST
DTSTART:20181104T060000
END:STANDARD
BEGIN:DAYLIGHT
TZOFFSETFROM:-0500
TZOFFSETTO:-0400
TZNAME:EDT
DTSTART:20190310T070000
END:DAYLIGHT
BEGIN:STANDARD
TZOFFSETFROM:-0400
TZOFFSETTO:-0500
TZNAME:EST
DTSTART:20191103T060000
END:STANDARD
END:VTIMEZONE
BEGIN:VEVENT
DTSTART;TZID=America/New_York:20180713T183000
DTEND;TZID=America/New_York:20180713T213000
DTSTAMP:20260422T072405
CREATED:20180507T225417Z
LAST-MODIFIED:20180525T190438Z
UID:1952-1531506600-1531517400@ballroomdancepreservation.com
SUMMARY:Dancing At the Codfish Ball
DESCRIPTION:What a fun summer dance event this will be.  Dancing\, food and lots of decorations with “sea-critters” \nWe’ll do a Charleston to the Song At the Codfish Ball\, then plenty of dancing and summer fun to DJ’d music \n  \nMembers $7\,  non members $9 \nYou may BYOB to this event \n  \n  \n  \n 
URL:https://ballroomdancepreservation.com/event/dance-at-the-base/
LOCATION:Myrtle Beach Base Recreation Center 800 Gabreski Lane Myrtle Beach\, SC
CATEGORIES:Ballroom Dance Event
END:VEVENT
END:VCALENDAR